BEGIN:VCALENDAR
VERSION:2.0
PRODID:-//La Truite de l&#039;Arc Mosellan - ECPv6.15.11//NONSGML v1.0//EN
CALSCALE:GREGORIAN
METHOD:PUBLISH
X-ORIGINAL-URL:http://latruitedelarcmosellan.com
X-WR-CALDESC:Évènements pour La Truite de l&#039;Arc Mosellan
REFRESH-INTERVAL;VALUE=DURATION:PT1H
X-Robots-Tag:noindex
X-PUBLISHED-TTL:PT1H
BEGIN:VTIMEZONE
TZID:Europe/Paris
BEGIN:DAYLIGHT
TZOFFSETFROM:+0100
TZOFFSETTO:+0200
TZNAME:CEST
DTSTART:20220327T010000
END:DAYLIGHT
BEGIN:STANDARD
TZOFFSETFROM:+0200
TZOFFSETTO:+0100
TZNAME:CET
DTSTART:20221030T010000
END:STANDARD
BEGIN:DAYLIGHT
TZOFFSETFROM:+0100
TZOFFSETTO:+0200
TZNAME:CEST
DTSTART:20230326T010000
END:DAYLIGHT
BEGIN:STANDARD
TZOFFSETFROM:+0200
TZOFFSETTO:+0100
TZNAME:CET
DTSTART:20231029T010000
END:STANDARD
BEGIN:DAYLIGHT
TZOFFSETFROM:+0100
TZOFFSETTO:+0200
TZNAME:CEST
DTSTART:20240331T010000
END:DAYLIGHT
BEGIN:STANDARD
TZOFFSETFROM:+0200
TZOFFSETTO:+0100
TZNAME:CET
DTSTART:20241027T010000
END:STANDARD
END:VTIMEZONE
BEGIN:VEVENT
DTSTART;TZID=Europe/Paris:20230204T140000
DTEND;TZID=Europe/Paris:20230204T153000
DTSTAMP:20260421T212810
CREATED:20230115T080436Z
LAST-MODIFIED:20230115T080436Z
UID:25702-1675519200-1675524600@latruitedelarcmosellan.com
SUMMARY:APN - 3ème leçon 2023 - cours de montage de mouche
DESCRIPTION:APN – 3ème leçon 2023 – cours de montage de mouche
URL:http://latruitedelarcmosellan.com/event/apn-3eme-lecon-2023-cours-de-montage-de-mouche/
LOCATION:MAIRIE DE MALLING\, 2 Rue du Plan d'Eau\, Malling\, 57480\, France
CATEGORIES:APN
ORGANIZER;CN="Didier FINET":MAILTO:didierfinet@orange.fr
END:VEVENT
BEGIN:VEVENT
DTSTART;TZID=Europe/Paris:20230205T083000
DTEND;TZID=Europe/Paris:20230205T120000
DTSTAMP:20260421T212810
CREATED:20230115T074943Z
LAST-MODIFIED:20230115T074943Z
UID:25679-1675585800-1675598400@latruitedelarcmosellan.com
SUMMARY:2ème matinée de nettoyage 2023
DESCRIPTION:2ème matinée de nettoyage; rendez-vous au pont de la Nationale de Petite-Hettange à 8h30.
URL:http://latruitedelarcmosellan.com/event/2eme-matinee-de-nettoyage-2023/
LOCATION:PONT DE LA NATIONALE A PETITE-HETTANGE\, Pont de la Nationale\, PETITE-HETTANGE\, 57480\, France
CATEGORIES:Nettoyage
ORGANIZER;CN="Michel FOLSCHWEILLER":MAILTO:michel.folschweiller@wanadoo.fr
END:VEVENT
BEGIN:VEVENT
DTSTART;TZID=Europe/Paris:20230211T200000
DTEND;TZID=Europe/Paris:20230211T220000
DTSTAMP:20260421T212810
CREATED:20230115T081327Z
LAST-MODIFIED:20230115T081327Z
UID:25712-1676145600-1676152800@latruitedelarcmosellan.com
SUMMARY:Assemblée générale ordinaire - 2022
DESCRIPTION:Assemblée générale ordinaire – 2022
URL:http://latruitedelarcmosellan.com/event/assemblee-generale-ordinaire-2022/
LOCATION:SIÈGE SOCIAL – SALLE COMMUNALE DE MALLING\, 2 Rue de la Gare\, MALLING\, 57480\, France
CATEGORIES:Assemblée Générale
ORGANIZER;CN="Michel FOLSCHWEILLER":MAILTO:michel.folschweiller@wanadoo.fr
END:VEVENT
BEGIN:VEVENT
DTSTART;TZID=Europe/Paris:20230218T140000
DTEND;TZID=Europe/Paris:20230218T153000
DTSTAMP:20260421T212810
CREATED:20230115T080636Z
LAST-MODIFIED:20230115T080636Z
UID:25705-1676728800-1676734200@latruitedelarcmosellan.com
SUMMARY:APN - 4ème leçon 2023 - cours de montage de mouche
DESCRIPTION:APN – 4ème leçon 2023 – cours de montage de mouche
URL:http://latruitedelarcmosellan.com/event/apn-4eme-lecon-2023-cours-de-montage-de-mouche/
LOCATION:MAIRIE DE MALLING\, 2 Rue du Plan d'Eau\, Malling\, 57480\, France
CATEGORIES:APN
ORGANIZER;CN="Didier FINET":MAILTO:didierfinet@orange.fr
END:VEVENT
BEGIN:VEVENT
DTSTART;TZID=Europe/Paris:20230226T083000
DTEND;TZID=Europe/Paris:20230226T120000
DTSTAMP:20260421T212810
CREATED:20230115T075204Z
LAST-MODIFIED:20230115T075915Z
UID:25683-1677400200-1677412800@latruitedelarcmosellan.com
SUMMARY:3ème matinée de nettoyage 2023
DESCRIPTION:3ème matinée de nettoyage; rendez-vous au pont de la Nationale de Petite-Hettange à 8h30.
URL:http://latruitedelarcmosellan.com/event/3eme-matinee-de-nettoyage-2023/
LOCATION:PONT DE LA NATIONALE A PETITE-HETTANGE\, Pont de la Nationale\, PETITE-HETTANGE\, 57480\, France
CATEGORIES:Nettoyage
ORGANIZER;CN="Michel FOLSCHWEILLER":MAILTO:michel.folschweiller@wanadoo.fr
END:VEVENT
END:VCALENDAR