BEGIN:VCALENDAR
VERSION:2.0
PRODID:-//La Truite de l&#039;Arc Mosellan - ECPv6.15.11//NONSGML v1.0//EN
CALSCALE:GREGORIAN
METHOD:PUBLISH
X-ORIGINAL-URL:http://latruitedelarcmosellan.com
X-WR-CALDESC:Évènements pour La Truite de l&#039;Arc Mosellan
REFRESH-INTERVAL;VALUE=DURATION:PT1H
X-Robots-Tag:noindex
X-PUBLISHED-TTL:PT1H
BEGIN:VTIMEZONE
TZID:Europe/Paris
BEGIN:DAYLIGHT
TZOFFSETFROM:+0100
TZOFFSETTO:+0200
TZNAME:CEST
DTSTART:20210328T010000
END:DAYLIGHT
BEGIN:STANDARD
TZOFFSETFROM:+0200
TZOFFSETTO:+0100
TZNAME:CET
DTSTART:20211031T010000
END:STANDARD
BEGIN:DAYLIGHT
TZOFFSETFROM:+0100
TZOFFSETTO:+0200
TZNAME:CEST
DTSTART:20220327T010000
END:DAYLIGHT
BEGIN:STANDARD
TZOFFSETFROM:+0200
TZOFFSETTO:+0100
TZNAME:CET
DTSTART:20221030T010000
END:STANDARD
BEGIN:DAYLIGHT
TZOFFSETFROM:+0100
TZOFFSETTO:+0200
TZNAME:CEST
DTSTART:20230326T010000
END:DAYLIGHT
BEGIN:STANDARD
TZOFFSETFROM:+0200
TZOFFSETTO:+0100
TZNAME:CET
DTSTART:20231029T010000
END:STANDARD
END:VTIMEZONE
BEGIN:VEVENT
DTSTART;TZID=Europe/Paris:20220205T000000
DTEND;TZID=Europe/Paris:20220205T000000
DTSTAMP:20260422T153911
CREATED:20211027T163214Z
LAST-MODIFIED:20211027T163214Z
UID:25639-1644019200-1644019200@latruitedelarcmosellan.com
SUMMARY:APN - 3ème leçon 2022 - cours de montage de mouche
DESCRIPTION:APN – 3ème leçon 2022 – cours de montage de mouche
URL:http://latruitedelarcmosellan.com/event/apn-3eme-lecon-2022-cours-de-montage-de-mouche/
LOCATION:MAIRIE DE MALLING\, 2 Rue du Plan d'Eau\, Malling\, 57480\, France
CATEGORIES:APN
ORGANIZER;CN="Didier FINET":MAILTO:didierfinet@orange.fr
END:VEVENT
BEGIN:VEVENT
DTSTART;TZID=Europe/Paris:20220206T083000
DTEND;TZID=Europe/Paris:20220206T120000
DTSTAMP:20260422T153911
CREATED:20211207T072437Z
LAST-MODIFIED:20211207T072437Z
UID:25660-1644136200-1644148800@latruitedelarcmosellan.com
SUMMARY:2ème matinée de nettoyage 2022
DESCRIPTION:2ème matinée de nettoyage; rendez-vous au pont de la Nationale de Petite-Hettange à 8h30.
URL:http://latruitedelarcmosellan.com/event/2eme-matinee-de-nettoyage-2022/
LOCATION:PONT DE LA NATIONALE A PETITE-HETTANGE\, Pont de la Nationale\, PETITE-HETTANGE\, 57480\, France
CATEGORIES:Nettoyage
ORGANIZER;CN="Michel FOLSCHWEILLER":MAILTO:michel.folschweiller@wanadoo.fr
END:VEVENT
BEGIN:VEVENT
DTSTART;TZID=Europe/Paris:20220219T000000
DTEND;TZID=Europe/Paris:20220219T000000
DTSTAMP:20260422T153911
CREATED:20211027T163842Z
LAST-MODIFIED:20211027T163842Z
UID:25648-1645228800-1645228800@latruitedelarcmosellan.com
SUMMARY:APN - 4ème leçon 2022 - cours de montage de mouche
DESCRIPTION:APN – 4ème leçon 2022 – cours de montage de mouche
URL:http://latruitedelarcmosellan.com/event/apn-4eme-lecon-2022-cours-de-montage-de-mouche/
LOCATION:MAIRIE DE MALLING\, 2 Rue du Plan d'Eau\, Malling\, 57480\, France
CATEGORIES:APN
ORGANIZER;CN="Didier FINET":MAILTO:didierfinet@orange.fr
END:VEVENT
BEGIN:VEVENT
DTSTART;TZID=Europe/Paris:20220227T083000
DTEND;TZID=Europe/Paris:20220227T120000
DTSTAMP:20260422T153911
CREATED:20211207T072622Z
LAST-MODIFIED:20211207T072622Z
UID:25663-1645950600-1645963200@latruitedelarcmosellan.com
SUMMARY:3ème matinée de nettoyage 2022
DESCRIPTION:3ème matinée de nettoyage; rendez-vous au pont de la Nationale de Petite-Hettange à 8h30.
URL:http://latruitedelarcmosellan.com/event/3eme-matinee-de-nettoyage-2022/
LOCATION:PONT DU MOULIN A PETITE-HETTANGE\, 2 rue du Moulin\, PETITE-HETTANGE\, 57480\, France
CATEGORIES:Nettoyage
ORGANIZER;CN="Michel FOLSCHWEILLER":MAILTO:michel.folschweiller@wanadoo.fr
END:VEVENT
END:VCALENDAR