BEGIN:VCALENDAR
VERSION:2.0
PRODID:-//La Truite de l&#039;Arc Mosellan - ECPv6.15.11//NONSGML v1.0//EN
CALSCALE:GREGORIAN
METHOD:PUBLISH
X-ORIGINAL-URL:http://latruitedelarcmosellan.com
X-WR-CALDESC:Évènements pour La Truite de l&#039;Arc Mosellan
REFRESH-INTERVAL;VALUE=DURATION:PT1H
X-Robots-Tag:noindex
X-PUBLISHED-TTL:PT1H
BEGIN:VTIMEZONE
TZID:Europe/Paris
BEGIN:DAYLIGHT
TZOFFSETFROM:+0100
TZOFFSETTO:+0200
TZNAME:CEST
DTSTART:20200329T010000
END:DAYLIGHT
BEGIN:STANDARD
TZOFFSETFROM:+0200
TZOFFSETTO:+0100
TZNAME:CET
DTSTART:20201025T010000
END:STANDARD
BEGIN:DAYLIGHT
TZOFFSETFROM:+0100
TZOFFSETTO:+0200
TZNAME:CEST
DTSTART:20210328T010000
END:DAYLIGHT
BEGIN:STANDARD
TZOFFSETFROM:+0200
TZOFFSETTO:+0100
TZNAME:CET
DTSTART:20211031T010000
END:STANDARD
BEGIN:DAYLIGHT
TZOFFSETFROM:+0100
TZOFFSETTO:+0200
TZNAME:CEST
DTSTART:20220327T010000
END:DAYLIGHT
BEGIN:STANDARD
TZOFFSETFROM:+0200
TZOFFSETTO:+0100
TZNAME:CET
DTSTART:20221030T010000
END:STANDARD
END:VTIMEZONE
BEGIN:VEVENT
DTSTART;TZID=Europe/Paris:20211103T200000
DTEND;TZID=Europe/Paris:20211103T220000
DTSTAMP:20260422T201844
CREATED:20211028T092502Z
LAST-MODIFIED:20211028T092502Z
UID:25651-1635969600-1635976800@latruitedelarcmosellan.com
SUMMARY:1ère Réunion du Conseil d'Administration - 2021
DESCRIPTION:1ère Réunion du Conseil d’Administration – 2021
URL:http://latruitedelarcmosellan.com/event/1ere-reunion-du-conseil-dadministration-2021/
LOCATION:LA LORRAINE – KOENIGSMACKER\, 1 rue de l'église\, KOENIGSMACKER\, 57920\, France
CATEGORIES:Réunion du Conseil d'Administration
ORGANIZER;CN="Michel FOLSCHWEILLER":MAILTO:michel.folschweiller@wanadoo.fr
END:VEVENT
BEGIN:VEVENT
DTSTART;TZID=Europe/Paris:20211107T083000
DTEND;TZID=Europe/Paris:20211107T120000
DTSTAMP:20260422T201844
CREATED:20210922T065207Z
LAST-MODIFIED:20211012T051529Z
UID:25601-1636273800-1636286400@latruitedelarcmosellan.com
SUMMARY:2ème matinée de nettoyage 2021
DESCRIPTION:2ème matinée de nettoyage; rendez-vous au pont de la Nationale de Petite-Hettange à 8h30.
URL:http://latruitedelarcmosellan.com/event/2eme-matinee-de-nettoyage-2021-2/
LOCATION:PONT DE LA NATIONALE A PETITE-HETTANGE\, Pont de la Nationale\, PETITE-HETTANGE\, 57480\, France
CATEGORIES:Nettoyage
ORGANIZER;CN="Michel FOLSCHWEILLER":MAILTO:michel.folschweiller@wanadoo.fr
END:VEVENT
BEGIN:VEVENT
DTSTART;TZID=Europe/Paris:20211113T140000
DTEND;TZID=Europe/Paris:20211113T153000
DTSTAMP:20260422T201844
CREATED:20211027T161937Z
LAST-MODIFIED:20211027T161937Z
UID:25625-1636812000-1636817400@latruitedelarcmosellan.com
SUMMARY:APN - 1ère leçon 2021 - cours de montage de mouche
DESCRIPTION:APN – 1ère leçon 2021 – cours de montage de mouche
URL:http://latruitedelarcmosellan.com/event/apn-1ere-lecon-2021-cours-de-montage-de-mouche/
LOCATION:MAIRIE DE MALLING\, 2 Rue du Plan d'Eau\, Malling\, 57480\, France
CATEGORIES:APN
ORGANIZER;CN="Didier FINET":MAILTO:didierfinet@orange.fr
END:VEVENT
END:VCALENDAR