BEGIN:VCALENDAR
VERSION:2.0
PRODID:-//La Truite de l&#039;Arc Mosellan - ECPv6.15.11//NONSGML v1.0//EN
CALSCALE:GREGORIAN
METHOD:PUBLISH
X-WR-CALNAME:La Truite de l&#039;Arc Mosellan
X-ORIGINAL-URL:http://latruitedelarcmosellan.com
X-WR-CALDESC:Évènements pour La Truite de l&#039;Arc Mosellan
REFRESH-INTERVAL;VALUE=DURATION:PT1H
X-Robots-Tag:noindex
X-PUBLISHED-TTL:PT1H
BEGIN:VTIMEZONE
TZID:Europe/Paris
BEGIN:DAYLIGHT
TZOFFSETFROM:+0100
TZOFFSETTO:+0200
TZNAME:CEST
DTSTART:20190331T010000
END:DAYLIGHT
BEGIN:STANDARD
TZOFFSETFROM:+0200
TZOFFSETTO:+0100
TZNAME:CET
DTSTART:20191027T010000
END:STANDARD
BEGIN:DAYLIGHT
TZOFFSETFROM:+0100
TZOFFSETTO:+0200
TZNAME:CEST
DTSTART:20200329T010000
END:DAYLIGHT
BEGIN:STANDARD
TZOFFSETFROM:+0200
TZOFFSETTO:+0100
TZNAME:CET
DTSTART:20201025T010000
END:STANDARD
BEGIN:DAYLIGHT
TZOFFSETFROM:+0100
TZOFFSETTO:+0200
TZNAME:CEST
DTSTART:20210328T010000
END:DAYLIGHT
BEGIN:STANDARD
TZOFFSETFROM:+0200
TZOFFSETTO:+0100
TZNAME:CET
DTSTART:20211031T010000
END:STANDARD
END:VTIMEZONE
BEGIN:VEVENT
DTSTART;TZID=Europe/Paris:20201003T140000
DTEND;TZID=Europe/Paris:20201003T153000
DTSTAMP:20260426T022617
CREATED:20200922T082934Z
LAST-MODIFIED:20200922T082934Z
UID:25583-1601733600-1601739000@latruitedelarcmosellan.com
SUMMARY:APN - 18ème leçon 2020 - cours de lancer
DESCRIPTION:APN – 18ème leçon 2020 – cours de lancer
URL:http://latruitedelarcmosellan.com/event/apn-18eme-lecon-2020-cours-de-lancer/
LOCATION:RESERVOIR DE MALLING\, Malling\, 57480\, France
CATEGORIES:APN
ORGANIZER;CN="Didier FINET":MAILTO:didierfinet@orange.fr
END:VEVENT
BEGIN:VEVENT
DTSTART;TZID=Europe/Paris:20201004T083000
DTEND;TZID=Europe/Paris:20201004T120000
DTSTAMP:20260426T022617
CREATED:20200922T080711Z
LAST-MODIFIED:20200922T080711Z
UID:25553-1601800200-1601812800@latruitedelarcmosellan.com
SUMMARY:4ème matinée de nettoyage 2020
DESCRIPTION:4ème matinée de nettoyage; rendez-vous au pont de la Nationale de Petite-Hettange à 8h30.
URL:http://latruitedelarcmosellan.com/event/4eme-matinee-de-nettoyage-2020/
LOCATION:PONT DE LA NATIONALE A PETITE-HETTANGE\, Pont de la Nationale\, PETITE-HETTANGE\, 57480\, France
CATEGORIES:Nettoyage
ORGANIZER;CN="Michel FOLSCHWEILLER":MAILTO:michel.folschweiller@wanadoo.fr
END:VEVENT
BEGIN:VEVENT
DTSTART;TZID=Europe/Paris:20201010T140000
DTEND;TZID=Europe/Paris:20201010T153000
DTSTAMP:20260426T022617
CREATED:20200922T083116Z
LAST-MODIFIED:20200922T083116Z
UID:25586-1602338400-1602343800@latruitedelarcmosellan.com
SUMMARY:APN - 19ème leçon 2020 - cours de lancer
DESCRIPTION:APN – 19ème leçon 2020 – cours de lancer
URL:http://latruitedelarcmosellan.com/event/apn-19eme-lecon-2020-cours-de-lancer/
LOCATION:RESERVOIR DE MALLING\, Malling\, 57480\, France
CATEGORIES:APN
ORGANIZER;CN="Didier FINET":MAILTO:didierfinet@orange.fr
END:VEVENT
BEGIN:VEVENT
DTSTART;TZID=Europe/Paris:20201017T140000
DTEND;TZID=Europe/Paris:20201017T153000
DTSTAMP:20260426T022617
CREATED:20200922T083348Z
LAST-MODIFIED:20200922T083348Z
UID:25589-1602943200-1602948600@latruitedelarcmosellan.com
SUMMARY:APN - 20ème leçon 2020 - cours de lancer
DESCRIPTION:APN – 20ème leçon 2020 – cours de lancer
URL:http://latruitedelarcmosellan.com/event/apn-20eme-lecon-2020-cours-de-lancer/
LOCATION:RESERVOIR DE MALLING\, Malling\, 57480\, France
CATEGORIES:APN
ORGANIZER;CN="Didier FINET":MAILTO:didierfinet@orange.fr
END:VEVENT
END:VCALENDAR