BEGIN:VCALENDAR
VERSION:2.0
PRODID:-//La Truite de l&#039;Arc Mosellan - ECPv6.15.11//NONSGML v1.0//EN
CALSCALE:GREGORIAN
METHOD:PUBLISH
X-ORIGINAL-URL:http://latruitedelarcmosellan.com
X-WR-CALDESC:Évènements pour La Truite de l&#039;Arc Mosellan
REFRESH-INTERVAL;VALUE=DURATION:PT1H
X-Robots-Tag:noindex
X-PUBLISHED-TTL:PT1H
BEGIN:VTIMEZONE
TZID:Europe/Paris
BEGIN:DAYLIGHT
TZOFFSETFROM:+0100
TZOFFSETTO:+0200
TZNAME:CEST
DTSTART:20220327T010000
END:DAYLIGHT
BEGIN:STANDARD
TZOFFSETFROM:+0200
TZOFFSETTO:+0100
TZNAME:CET
DTSTART:20221030T010000
END:STANDARD
BEGIN:DAYLIGHT
TZOFFSETFROM:+0100
TZOFFSETTO:+0200
TZNAME:CEST
DTSTART:20230326T010000
END:DAYLIGHT
BEGIN:STANDARD
TZOFFSETFROM:+0200
TZOFFSETTO:+0100
TZNAME:CET
DTSTART:20231029T010000
END:STANDARD
BEGIN:DAYLIGHT
TZOFFSETFROM:+0100
TZOFFSETTO:+0200
TZNAME:CEST
DTSTART:20240331T010000
END:DAYLIGHT
BEGIN:STANDARD
TZOFFSETFROM:+0200
TZOFFSETTO:+0100
TZNAME:CET
DTSTART:20241027T010000
END:STANDARD
END:VTIMEZONE
BEGIN:VEVENT
DTSTART;TZID=Europe/Paris:20230506T140000
DTEND;TZID=Europe/Paris:20230506T153000
DTSTAMP:20260421T184400
CREATED:20230115T082933Z
LAST-MODIFIED:20230115T082933Z
UID:25721-1683381600-1683387000@latruitedelarcmosellan.com
SUMMARY:2ème alevinage de la saison 2023
DESCRIPTION:2ème alevinage de la saison 2023: rendez-vous au pont du moulin à Petite-Hettange
URL:http://latruitedelarcmosellan.com/event/2eme-alevinage-de-la-saison-2023/
LOCATION:PONT DU MOULIN A PETITE-HETTANGE\, 2 rue du Moulin\, PETITE-HETTANGE\, 57480\, France
CATEGORIES:Alevinage
ORGANIZER;CN="Michel FOLSCHWEILLER":MAILTO:michel.folschweiller@wanadoo.fr
END:VEVENT
END:VCALENDAR