BEGIN:VCALENDAR
VERSION:2.0
PRODID:-//La Truite de l&#039;Arc Mosellan - ECPv6.15.11//NONSGML v1.0//EN
CALSCALE:GREGORIAN
METHOD:PUBLISH
X-ORIGINAL-URL:http://latruitedelarcmosellan.com
X-WR-CALDESC:Évènements pour La Truite de l&#039;Arc Mosellan
REFRESH-INTERVAL;VALUE=DURATION:PT1H
X-Robots-Tag:noindex
X-PUBLISHED-TTL:PT1H
BEGIN:VTIMEZONE
TZID:Europe/Paris
BEGIN:DAYLIGHT
TZOFFSETFROM:+0100
TZOFFSETTO:+0200
TZNAME:CEST
DTSTART:20220327T010000
END:DAYLIGHT
BEGIN:STANDARD
TZOFFSETFROM:+0200
TZOFFSETTO:+0100
TZNAME:CET
DTSTART:20221030T010000
END:STANDARD
BEGIN:DAYLIGHT
TZOFFSETFROM:+0100
TZOFFSETTO:+0200
TZNAME:CEST
DTSTART:20230326T010000
END:DAYLIGHT
BEGIN:STANDARD
TZOFFSETFROM:+0200
TZOFFSETTO:+0100
TZNAME:CET
DTSTART:20231029T010000
END:STANDARD
BEGIN:DAYLIGHT
TZOFFSETFROM:+0100
TZOFFSETTO:+0200
TZNAME:CEST
DTSTART:20240331T010000
END:DAYLIGHT
BEGIN:STANDARD
TZOFFSETFROM:+0200
TZOFFSETTO:+0100
TZNAME:CET
DTSTART:20241027T010000
END:STANDARD
END:VTIMEZONE
BEGIN:VEVENT
DTSTART;TZID=Europe/Paris:20230211T200000
DTEND;TZID=Europe/Paris:20230211T220000
DTSTAMP:20260421T225552
CREATED:20230115T081327Z
LAST-MODIFIED:20230115T081327Z
UID:25712-1676145600-1676152800@latruitedelarcmosellan.com
SUMMARY:Assemblée générale ordinaire - 2022
DESCRIPTION:Assemblée générale ordinaire – 2022
URL:http://latruitedelarcmosellan.com/event/assemblee-generale-ordinaire-2022/
LOCATION:SIÈGE SOCIAL – SALLE COMMUNALE DE MALLING\, 2 Rue de la Gare\, MALLING\, 57480\, France
CATEGORIES:Assemblée Générale
ORGANIZER;CN="Michel FOLSCHWEILLER":MAILTO:michel.folschweiller@wanadoo.fr
END:VEVENT
END:VCALENDAR