BEGIN:VCALENDAR
VERSION:2.0
PRODID:-//La Truite de l&#039;Arc Mosellan - ECPv6.15.11//NONSGML v1.0//EN
CALSCALE:GREGORIAN
METHOD:PUBLISH
X-WR-CALNAME:La Truite de l&#039;Arc Mosellan
X-ORIGINAL-URL:http://latruitedelarcmosellan.com
X-WR-CALDESC:Évènements pour La Truite de l&#039;Arc Mosellan
REFRESH-INTERVAL;VALUE=DURATION:PT1H
X-Robots-Tag:noindex
X-PUBLISHED-TTL:PT1H
BEGIN:VTIMEZONE
TZID:Europe/Paris
BEGIN:DAYLIGHT
TZOFFSETFROM:+0100
TZOFFSETTO:+0200
TZNAME:CEST
DTSTART:20220327T010000
END:DAYLIGHT
BEGIN:STANDARD
TZOFFSETFROM:+0200
TZOFFSETTO:+0100
TZNAME:CET
DTSTART:20221030T010000
END:STANDARD
BEGIN:DAYLIGHT
TZOFFSETFROM:+0100
TZOFFSETTO:+0200
TZNAME:CEST
DTSTART:20230326T010000
END:DAYLIGHT
BEGIN:STANDARD
TZOFFSETFROM:+0200
TZOFFSETTO:+0100
TZNAME:CET
DTSTART:20231029T010000
END:STANDARD
BEGIN:DAYLIGHT
TZOFFSETFROM:+0100
TZOFFSETTO:+0200
TZNAME:CEST
DTSTART:20240331T010000
END:DAYLIGHT
BEGIN:STANDARD
TZOFFSETFROM:+0200
TZOFFSETTO:+0100
TZNAME:CET
DTSTART:20241027T010000
END:STANDARD
END:VTIMEZONE
BEGIN:VEVENT
DTSTART;TZID=Europe/Paris:20230204T140000
DTEND;TZID=Europe/Paris:20230204T153000
DTSTAMP:20260421T225230
CREATED:20230115T080436Z
LAST-MODIFIED:20230115T080436Z
UID:25702-1675519200-1675524600@latruitedelarcmosellan.com
SUMMARY:APN - 3ème leçon 2023 - cours de montage de mouche
DESCRIPTION:APN – 3ème leçon 2023 – cours de montage de mouche
URL:http://latruitedelarcmosellan.com/event/apn-3eme-lecon-2023-cours-de-montage-de-mouche/
LOCATION:MAIRIE DE MALLING\, 2 Rue du Plan d'Eau\, Malling\, 57480\, France
CATEGORIES:APN
ORGANIZER;CN="Didier FINET":MAILTO:didierfinet@orange.fr
END:VEVENT
END:VCALENDAR