BEGIN:VCALENDAR
VERSION:2.0
PRODID:-//La Truite de l&#039;Arc Mosellan - ECPv6.15.11//NONSGML v1.0//EN
CALSCALE:GREGORIAN
METHOD:PUBLISH
X-ORIGINAL-URL:http://latruitedelarcmosellan.com
X-WR-CALDESC:Évènements pour La Truite de l&#039;Arc Mosellan
REFRESH-INTERVAL;VALUE=DURATION:PT1H
X-Robots-Tag:noindex
X-PUBLISHED-TTL:PT1H
BEGIN:VTIMEZONE
TZID:Europe/Paris
BEGIN:DAYLIGHT
TZOFFSETFROM:+0100
TZOFFSETTO:+0200
TZNAME:CEST
DTSTART:20200329T010000
END:DAYLIGHT
BEGIN:STANDARD
TZOFFSETFROM:+0200
TZOFFSETTO:+0100
TZNAME:CET
DTSTART:20201025T010000
END:STANDARD
BEGIN:DAYLIGHT
TZOFFSETFROM:+0100
TZOFFSETTO:+0200
TZNAME:CEST
DTSTART:20210328T010000
END:DAYLIGHT
BEGIN:STANDARD
TZOFFSETFROM:+0200
TZOFFSETTO:+0100
TZNAME:CET
DTSTART:20211031T010000
END:STANDARD
BEGIN:DAYLIGHT
TZOFFSETFROM:+0100
TZOFFSETTO:+0200
TZNAME:CEST
DTSTART:20220327T010000
END:DAYLIGHT
BEGIN:STANDARD
TZOFFSETFROM:+0200
TZOFFSETTO:+0100
TZNAME:CET
DTSTART:20221030T010000
END:STANDARD
END:VTIMEZONE
BEGIN:VEVENT
DTSTART;TZID=Europe/Paris:20211103T200000
DTEND;TZID=Europe/Paris:20211103T220000
DTSTAMP:20260422T214534
CREATED:20211028T092502Z
LAST-MODIFIED:20211028T092502Z
UID:25651-1635969600-1635976800@latruitedelarcmosellan.com
SUMMARY:1ère Réunion du Conseil d'Administration - 2021
DESCRIPTION:1ère Réunion du Conseil d’Administration – 2021
URL:http://latruitedelarcmosellan.com/event/1ere-reunion-du-conseil-dadministration-2021/
LOCATION:LA LORRAINE – KOENIGSMACKER\, 1 rue de l'église\, KOENIGSMACKER\, 57920\, France
CATEGORIES:Réunion du Conseil d'Administration
ORGANIZER;CN="Michel FOLSCHWEILLER":MAILTO:michel.folschweiller@wanadoo.fr
END:VEVENT
END:VCALENDAR